BEGIN:VCALENDAR
VERSION:2.0
PRODID:-//Sixthman Festival Calendar//EN
CALSCALE:GREGORIAN
METHOD:PUBLISH
BEGIN:VEVENT
DTSTART;TZID=America/New_York:20260417T130000
DTEND;TZID=America/New_York:20260417T130000
LOCATION:https://www.tcmcruise.com/prices/
TRANSP:OPAQUE
UID:36045820@sixthman.net
DTSTAMP:20260420T005654Z
SUMMARY:TCM Classic Cruise First Available
DESCRIPTION:TCM Classic Cruise Potential First Available Stateroom drops!
CLASS:PUBLIC
X-MICROSOFT-CDO-BUSYSTATUS:FREE
STATUS:CONFIRMED
RRULE:FREQ=WEEKLY;UNTIL=20260913T000000
BEGIN:VALARM
TRIGGER:-PT15M
ACTION:DISPLAY
DESCRIPTION:TCM Classic Cruise First Available
END:VALARM
END:VEVENT
END:VCALENDAR
